Workbook

Sheet 封面
A1: 深 圳 振 兴 会 计 师 事 务 所
A2: SHENZHEN ZHENXING CERTIFIED PUBLIC ACCOUNTANTS
A3: http://www.szzhenxingCPA.com E-mail:laoliming_5995@163.com
A4: 电 话(Tel)::+86-755-82254540/18926549632/13715243497/13322995950
A5: 传 真(Fax):+86-755-82926774 邮 编(Post Code)：518033
A6: 地 址：中国深圳市福田区滨河路爱地大厦公寓写字楼12E
A7: Address: Room 12E, AiDi Mansion Office Building, Binhe Road, Futian District, Shenzhen, China.
A13: 深圳振兴会计师事务所
A14: 关于深圳市泰宁幼儿园
A15: 二○一六年度的
A16: 审 计 报 告
B19: 项 目 | F19: 页 次
B21: 一、审计报告 | F21: 1
B23: 二、已审财务报表
B24: 1、资产负债表 | F24: 2-3
B25: 2、业务活动表 | F25: 4
B26: 3、保教活动成本表 | F26: 5
B27: 4、费用明细表 | F27: 6
B28: 5、政府资助收支表 | F28: 7
B29: 6、现金流量表 | F29: 8
B30: 7、基本数字表 | F30: 9
B31: 8、财务指标表 | F31: 10
B33: 三、财务报表附注 | F33: 11-15
B35: 四、需要说明的其他事项 | F35: 15-16
B37: 五、营业执照及执业许可证复印件

Sheet 审计报告
A1: 深 圳 振 兴 会 计 师 事 务 所
A2: SHENZHEN ZHENXING CERTIFIED PUBLIC ACCOUNTANTS
A3: http://www.szzhenxingCPA.com E-mail:laoliming_5995@163.com
A4: 电 话(Tel)::+86-755-82254540/18926549632/13715243497/13322995950
A5: 传 真(Fax):+86-755-82926774 邮 编(Post Code)：518033
A6: 地 址：中国深圳市福田区滨河路爱地大厦公寓写字楼12E
A7: Address: Room 12E, AiDi Mansion Office Building, Binhe Road, Futian District, Shenzhen, China.
A8: 审 计 报 告
B9: 深振兴年审[2017]260号
A10: 深圳市泰宁幼儿园:
A11: 我们接受委托，审计了后附的深圳市泰宁幼儿园财务报表，包括2016年12月31日的资产负债表，2016年度的业务活动表、保教活动成本表、费用表、政府资助收支表、现金流量表、基本数字表、财务指标表及财务报表附注，并根据主管部门的要求，审计了财务管理的有关情况。
A12: 一、管理层对财务报表的责任
A13: 编制和公允列报财务报表是幼儿园管理层的责任。这种责任包括：1.按照《深圳市民办幼儿园财务管理办法（试行）》的规定编制财务报表，对会计资料的真实性、合法性和完整性负责，使其实现公允反映；2.设计、实施和维护必要的内部控制，以使财务报表不存在由于舞弊或错误而导致的重大错报。3.作出合理的会计估计。
A14: 二、注册会计师的责任
A15: 我们的责任是在实施审计工作的基础上对财务报表发表审计意见。我们按照中国注册会计师审计准则的规定执行了审计工作。中国注册会计师审计准则要求我们遵守中国注册会计师职业道德守则，计划和执行审计工作以对财务报表是否不存在重大错报获取合理保证。
A16: 审计工作涉及实施审计程序，以获取有关财务报表金额和披露的审计证据。选择的审计程序取决于注册会计师的判断，包括对由于舞弊或错误导致的财务报表重大错报风险的评估。在进行风险评估时，注册会计师考虑与财务报表编制和公允列报相关的内部控制，以设计恰当的审计程序，但目的并非对内部控制的有效性发表意见。审计工作还包括评价管理层选用会计政策的恰当性和作出会计估计的合理性，以及评价财务报表的总体列报。
A17: 我们相信，我们获取的审计证据是充分、适当的，为发表审计意见提供了基础。
A18: 三、审计意见
A19: 我们认为，深圳市泰宁幼儿园财务报表在所有重大方面按照《深圳市民办幼儿园财务管理办法（试行）》及其他有关法律法规的规定编制，公允反映了深圳市泰宁幼儿园2016年12月31日的财务状况以及2016年度的业务成果。
A21: 深圳振兴会计师事务所 | B21: 中国注册会计师：
A24: 中国 · 深圳 | B24: 中国注册会计师：
B26: 二○一七年三月二十九日

Sheet 资产负债表
A1: 资产负债表
A2: 42735
A3: 编制单位： 深圳市泰宁幼儿园 | D3: 金额单位：人民币元
A4: 资 产 | B4: 注释 | C4: 期末数 | D4: 年初数
A5: 流动资产:
A6: 现 金 | B6: 1 | C6: =SUM(C7:C8) -> 1045.81 | D6: 1890.14
A7: 其中：人民币 | C7: 1045.81 | D7: 1890.14
A8: 外币折合人民币
A9: 银行存款 | B9: 1 | C9: =SUM(C10:C12) -> 1247701.4 | D9: =SUM(D10:D12) -> 1409042.4
A10: 其中：基本账户 | C10: 786947.71 | D10: 418883.36
A11: 共管账户 | C11: 84510.28 | D11: 584275.93
A12: 其他账户 | C12: 376243.44 | D12: 405883.07
A13: 其他货币资金
A14: 短期投资
A15: 短期投资跌价准备
A16: 应收票据
A17: 应收账款
A18: 其他应收账款 | B18: 2 | C18: 754174.54 | D18: 1448717.4
A19: 坏账准备
A20: 预付账款 | D20: 0
A21: 存 货 | D21: 0
A22: 存货跌价准备
A23: 待摊费用 | B23: 3 | C23: 57295.5 | D23: 140351.1
A24: 一年内到期的长期债权投资
A25: 其他流动资产
A26: 流动资产合计 | C26: =SUM(C6:C25)-C6-C9 -> 2060217.3 | D26: =SUM(D6:D25)-D6-D9 -> 3000001
A27: 长期投资：
A28: 长期股权投资
A29: 长期债权投资
A30: 长期债权投资减值准备
A31: 长期投资合计 | C31: 0 | D31: =SUM(D27:D29)-D30 -> 0
A32: 固定资产：
A33: 固定资产原价 | B33: 4（1） | C33: 2524644 | D33: 2033607
A34: 减：累计折旧 | B34: 4（2） | C34: 1443662.2 | D34: 1326519.6
A35: 固定资产净值 | B35: 4（3） | C35: =C33-C34 -> 1080981.8 | D35: =D33-D34 -> 707087.38
A36: 在建工程
A37: 文物文化资产
A38: 固定资产清理
A39: 固定资产合计 | C39: =SUM(C35:C38) -> 1080981.8 | D39: =SUM(D35:D38) -> 707087.38
A40: 无形资产：
...

Sheet 资产负债表（续）
A1: 资产负债表（续）
A2: =资产负债表!A2 -> 42735
A3: =资产负债表!A3 -> 编制单位： 深圳市泰宁幼儿园 | D3: 金额单位：人民币元
A4: 负债和净资产 | B4: 注释 | C4: 期末数 | D4: 年初数
A5: 流动负债:
A6: 短期借款
A7: 应付票据
A8: 应付账款
A9: 预收账款 | C9: =SUM(C10:C14) -> 0
A10: 其中：保教费
A11: 伙食费
A12: 校车费
A13: 托管费
A14: 其他预收账款
A15: 应付工资 | C15: 228550.11 | D15: 208317.1
A16: 应交税金 | B16: 5 | D16: 4557.01
A17: 其他应付款 | B17: 6 | C17: =SUM(C18:C22) -> 987641.49 | D17: 1166906.3
A18: 其中：应付出资人回报
A19: 代收费
A20: 代收政府对学生资助 | C20: 560 | D20: 3250
A21: 代收政府对教职工资助 | D21: 6000
A22: 其他应付款项 | C22: =998871.43-11789.94 -> 987081.49 | D22: 1157656.3
A23: 预提费用 | C23: 83000 | D23: 83000
A24: 预计负责
A25: 一年内到期的非流动资产
A26: 其他流动资产
A27: 流动负债合计 | C27: =SUM(C6:C26)-C17-C9 -> 1299191.6 | D27: =SUM(D6:D26)-D17-D9 -> 1462780.4
A28: 长期负债:
A29: 长期借款
A30: 长期应付款
A31: 受托代理负债
A32: 长期负债合计 | C32: =SUM(C29:C31) -> 0 | D32: =SUM(D29:D31) -> 0
A33: 负债合计 | C33: =C32+C27 -> 1299191.6 | D33: =D32+D27 -> 1462780.4
A34: 净资产：
A35: 非限定性净资产 | C35: =SUM(C36:C40) -> 1842007.5 | D35: 1744308
A36: 其中：出资人投入 | B36: 7 | C36: 3277621.3 | D36: 3277621.3
A37: 发展基金 | C37: 12534.7 | D37: 12534.7
A38: 风险防范金
A39: 其他专用基金
A40: 末分配结余 | C40: -1448148.5 | D40: -1545848
...

Sheet 业务活动表
A1: 业 务 活 动 表
A2: 2016年度
A3: ='资产负债表（续）'!A3 -> 编制单位： 深圳市泰宁幼儿园 | D3: 金额单位：人民币元
A4: 项 目 | B4: 注释 | C4: 本 年 累 计 数
C5: 非限定性 | D5: 限定性 | E5: 合计
A6: 一、收入合计 | C6: =SUM(C14:C17)+C7+C8 -> 5364325.5 | D6: =SUM(D14:D17)+D7+D8 -> 300000 | E6: =SUM(E14:E17)+E7+E8 -> 5664325.5
A7: （一）捐赠收入 | E7: =C7+D7 -> 0
A8: （二）提供服务收入 | C8: =SUM(C9:C13) -> 5362335 | E8: =C8+D8 -> 5362335
A9: 1、保教费 | C9: 4320520 | E9: =C9+D9 -> 4320520
A10: 2、伙食费 | C10: 981845 | E10: =C10+D10 -> 981845
A11: 3、校车费 | C11: 44570 | E11: =C11+D11 -> 44570
A12: 4、托管费 | E12: =C12+D12 -> 0
A13: 5、其他服务收入 | C13: 15400 | E13: =C13+D13 -> 15400
A14: （三）政府补助收入 | D14: 300000 | E14: =C14+D14 -> 300000
A15: （四）商品销售收入 | E15: =C15+D15 -> 0
A16: （五）投资收益 | B16: 8 | C16: 1990.54 | E16: =C16+D16 -> 1990.54
A17: （六）其他收入 | E17: =C17+D17 -> 0
A18: 二、成本费用合计 | C18: =SUM(C19:C22) -> 6066323.8 | D18: =SUM(D19:D22) -> 0 | E18: =C18+D18 -> 6066323.8
A19: （一）保教活动成本 | C19: 4994616.7 | E19: =C19+D19 -> 4994616.7
A20: （二）管理费用 | C20: 1071707.1 | E20: =C20+D20 -> 1071707.1
A21: （三）筹资费用 | E21: =C21+D21 -> 0
A22: （四）其他费用 | E22: =C22+D22 -> 0
A23: 加：以前年度非限定性净资产税前调整（调减用负数） | E23: =C23+D23 -> 0
A24: 加：限定性净资产转非限定性净资产 | C24: 800000 | D24: =-C24 -> -800000 | E24: =C24+D24 -> 0
A25: 三、非限定性净资产转税前增加额（减少用负数） | C25: =C6-C18+C23+C24 -> 98001.74 | D25: =D6-D18+D23+D24 -> -500000 | E25: =C25+D25 -> -401998.26
A26: 减：企业所得税 | C26: 302.22 | E26: =C26+D26 -> 302.22
A27: 四、非限定性净资产转税后增加额（减少用负数） | C27: =C25-C26 -> 97699.52 | D27: =D25-D26 -> -500000 | E27: =C27+D27 -> -402300.48
A28: 补充资料： | E28: =C28+D28 -> 0
A29: 1、应纳所得额的计算：
A30: 非限定性净资产转税前增加额（减少用负数） | C30: =C25 -> 98001.74 | E30: =C30+D30 -> 98001.74
A31: 减：弥补以前年度超支 | C31: 98001.74 | E31: =C31+D31 -> 98001.74
A32: 加：应纳税所得额调增数 | E32: =C32+D32 -> 0
A33: 减：应纳税所得额调减数 | E33: =C33+D33 -> 0
A34: 等于：应纳税所得额 | C34: =C30-C31+C32-C33 -> 2.1827873e-10 | E34: =C34+D34 -> 2.1827873e-10
A35: 2、企业所得税适用税率 | C35: 0.2 | E35: =C35 -> 0.2
A36: 3、应交纳企业所得税 | C36: =C34*0.5*C35 -> 2.1827873e-11 | E36: =E34*0.5*E35 -> 2.1827873e-11

Sheet 保教活动成本表
B1: 保教活动成本
B2: =业务活动表!A2 -> 2016年度
B3: =业务活动表!A3 -> 编制单位： 深圳市泰宁幼儿园 | H3: ='资产负债表（续）'!D3 -> 金额单位：人民币元
B4: 行次 | C4: 项目 | D4: 本年累计数 | E4: 项目 | F4: 本年累计数 | G4: 项目 | H4: 本年累计数 | I4: 合计
B5: 1 | C5: 一、保育教育服务成本 | E5: 二、膳食服务成本 | G5: 三、校车服务成本
B6: 2 | C6: 1、保教人员工资福利性支出 | D6: =SUM(D7:D10) -> 2578122.9 | E6: 1、服务人员工资福利性支出 | F6: =SUM(F7:F10) -> 138281 | G6: 1、服务人员工资福利性支出 | H6: =SUM(H7:H10) -> 51243.45 | I6: =D6+F6+H6 -> 2767647.4
B7: 3 | C7: （1）工资资金补贴 | D7: 2224608.1 | E7: （1）工资资金补贴 | F7: 122538 | G7: （1）工资资金补贴 | H7: 46095 | I7: =D7+F7+H7 -> 2393241.1
B8: 4 | C8: （2）社保缴费 | D8: 258605.35 | E8: （2）社保缴费 | F8: 12463.5 | G8: （2）社保缴费 | H8: 4188.95 | I8: =D8+F8+H8 -> 275257.8
B9: 5 | C9: （3）住房公积金 | D9: 56301.5 | E9: （3）住房公积金 | F9: 3279.5 | G9: （3）住房公积金 | H9: 959.5 | I9: =D9+F9+H9 -> 60540.5
B10: 6 | C10: （4）职工福利费 | D10: 38608 | E10: （4）职工福利费 | G10: （4）职工福利费 | I10: =D10+F10+H10 -> 38608
B11: 7 | C11: 2、保教材料及消耗品 | D11: 118711.2 | E11: 2、膳食材料 | F11: 609698.88 | G11: 2、汽油材料及消耗品 | H11: 29550 | I11: =D11+F11+H11 -> 757960.08
B12: 8 | C12: 3、其他保教成本 | D12: =SUM(D13:D22) -> 1270870.5 | E12: 3、其他膳食成本 | F12: =SUM(F13:F22) -> 112511.73 | G12: 3、其他校车成本 | H12: =SUM(H13:H22) -> 85627.1 | I12: =D12+F12+H12 -> 1469009.3
B13: 9 | C13: （1）X | D13: 0 | E13: （1）水费 | F13: 14051.71 | G13: （1）X | H13: 0 | I13: =D13+F13+H13 -> 14051.71
B14: 10 | C14: （2）X | D14: 0 | E14: （2）电费 | F14: 74588.92 | G14: （2）X | H14: 0 | I14: =D14+F14+H14 -> 74588.92
B15: 11 | C15: （3）X | D15: 0 | E15: （3）物业管理费 | G15: （3）X | H15: 0 | I15: =D15+F15+H15 -> 0
B16: 12 | C16: （4）修缮及维修费 | D16: 21575 | E16: （4）修缮及维修费 | G16: （4）修缮及维修费 | H16: 4144 | I16: =D16+F16+H16 -> 25719
B17: 13 | C17: （5）折旧费 | D17: 18577.55 | E17: （5）折旧费 | F17: 2624.4 | G17: （5）折旧费 | H17: 69561.96 | I17: =D17+F17+H17 -> 90763.91
B18: 14 | C18: （6）场地租金 | D18: 903880 | E18: （6）场地租金 | G18: （6）场地租金 | H18: 6276 | I18: =D18+F18+H18 -> 910156
B19: 15 | C19: （7）卫生保健防疫费 | D19: 6563.9 | E19: （7）X | F19: × | G19: （7）X | H19: × | I19: =D19+F19+H19 -> #VALUE!
B20: 16 | C20: （8）文体活动费 | E20: （8）X | F20: × | G20: （8）X | H20: × | I20: =D20+F20+H20 -> #VALUE!
B21: 17 | C21: （9）X | E21: （9）燃气费 | F21: 21246.7 | G21: （9）X | H21: × | I21: =D21+F21+H21 -> #VALUE!
B22: 18 | C22: （10）其他 | D22: 320274 | E22: （10）其他 | G22: （10）其他 | H22: 5645.14 | I22: =D22+F22+H22 -> 325919.14
B23: 19 | C23: 保教教育直接成本合计 | D23: =D6+D11+D12 -> 3967704.6 | E23: 膳食服务直接成本合计 | F23: =F6+F11+F12 -> 860491.61 | G23: 校车服务直接成本合计 | H23: =H6+H11+H12 -> 166420.55 | I23: =D23+F23+H23 -> 4994616.7
B24: 20 | C24: 加：分摊的三项费用 | D24: =[1]Sheet1!$B$16 -> 998318.14 | E24: 加：分摊的三项费用 | F24: =[1]Sheet1!$B$17 -> 53546.102 | G24: 加：分摊的三项费用 | H24: =[1]Sheet1!$B$18 -> 19842.834 | I24: =D24+F24+H24 -> 1071707.1
B25: 21 | C25: 保教教育总成本 | D25: =D23+D24 -> 4966022.7 | E25: 膳食服务总成本 | F25: =F23+F24 -> 914037.71 | G25: 校车服务服务总成本 | H25: =H23+H24 -> 186263.38 | I25: =D25+F25+H25 -> 6066323.8
I30: =I24-费用明细表!D43 -> 0

Sheet 费用明细表
B1: 费 用 表
B2: =保教活动成本表!B2 -> 2016年度
B3: =保教活动成本表!B3 -> 编制单位： 深圳市泰宁幼儿园 | D3: =保教活动成本表!H3 -> 金额单位：人民币元
B4: 行次 | C4: 项 目 | D4: 本年累计数
B5: 1 | C5: 一、管理费用 | D5: =SUM(D16:D40)+D6+D11 -> 1071707.1
B6: 2 | C6: 1、管理人员工资福利性支出 | D6: =SUM(D7:D10) -> 435906.76
B7: 3 | C7: （1）工资资金补贴 | D7: 421749.39
B8: 4 | C8: （2）社保缴费 | D8: 11579.57
B9: 5 | C9: （3）住房公积金 | D9: 2577.8
B10: 6 | C10: （4）职工福利费
B11: 7 | C11: 2、工勤人员工资福利性支出 | D11: =SUM(D12:D15) -> 184113.36
B12: 8 | C12: （1）工资资金补贴 | D12: 161743
B13: 9 | C13: （2）社保缴费 | D13: 17177.96
B14: 10 | C14: （3）住房公积金 | D14: 5192.4
B15: 11 | C15: （4）职工福利费
B16: 12 | C16: 3、水费 | D16: -2412.79
B17: 13 | C17: 4、电费 | D17: 39301.39
B18: 14 | C18: 5、物业管理费 | D18: 195952
B19: 15 | C19: 6、修缮及维修费
B20: 16 | C20: 7、折旧费 | D20: 26378.64
B21: 17 | C21: 8、场地租金
B22: 18 | C22: 9、职工教育经费 | D22: 400
B23: 19 | C23: 10、办公费 | D23: 75870.6
B24: 20 | C24: 11、邮电通讯网络费 | D24: 9738.52
B25: 21 | C25: 12、会议费
B26: 22 | C26: 13、差旅费 | D26: 11671.8
B27: 23 | C27: 14、汽车费用
B28: 24 | C28: 15、劳务费
B29: 25 | C29: 16、业务招待费
B30: 26 | C30: 17、低值易耗品及摊销
B31: 27 | C31: 18、绿化及养护费
B32: 28 | C32: 19、工会经费
B33: 29 | C33: 20、待摊费用摊销 | D33: 83055.6
B34: 30 | C34: 21、广告宣传费
B35: 31 | C35: 22、财务费 | D35: -1418.8
B36: 32 | C36: 23、董事会（理事会）费
B37: 33 | C37: 24、聘请中介机构费
B38: 34 | C38: 25、车船税印花税房产税等 | D38: 2235
B39: 35 | C39: 26、职工福利费
B40: 36 | C40: 27、其他 | D40: 10915
...

Sheet 补助收支
B1: 政府资助收支表
B2: =费用明细表!B2 -> 2016年度
B3: =费用明细表!B3 -> 编制单位： 深圳市泰宁幼儿园 | G3: =费用明细表!D3 -> 金额单位：人民币元
B4: 项目 | C4: 年初余额 | D4: 本年累计 | F4: 年末余额 | G4: 转非限定性净资产 | H4: 资金来源（选项：教育事业费、教育费附加、其他）
D5: 收入 | E5: 支出
B6: 一、对学生的资助 | C6: 3250 | D6: =D7+D11+D12 -> 251750 | E6: =E7+E11+E12 -> 254440 | F6: =C6+D6-E6 -> 560
B7: （一）代收儿童健康成长补贴 | C7: 3250 | D7: =SUM(D8:D10) -> 251750 | E7: =SUM(E8:E10) -> 254440 | F7: =C7+D7-E7 -> 560
B8: 1、对儿童补贴 | C8: 3250 | D8: 217750 | E8: 220440 | F8: =C8+D8-E8 -> 560
B9: 2、体检费 | C9: 0 | D9: 18020 | E9: 18020 | F9: =C9+D9-E9 -> 0
B10: 3、购买儿童读物 | C10: 0 | D10: 15980 | E10: 15980 | F10: =C10+D10-E10 -> 0
B11: （二）代收困难儿童保教费资助 | C11: 0 | F11: =C11+D11-E11 -> 0
B12: （三）代收其他资助 | C12: 0 | F12: =C12+D12-E12 -> 0
B13: 二、对教职工的资助 | C13: 6000 | D13: =SUM(D14:D16) -> 334500 | E13: =SUM(E14:E16) -> 340500 | F13: =C13+D13-E13 -> 0
B14: （一）代收长期从教津贴 | C14: 0 | D14: 300000 | E14: 300000 | F14: =C14+D14-E14 -> 0
B15: （二）代收对个人的奖励和资助 | C15: 0 | D15: 3500 | E15: 3500 | F15: =C15+D15-E15 -> 0
B16: （三）代收对教职工其他资助 | C16: 6000 | D16: 31000 | E16: 37000 | F16: =C16+D16-E16 -> 0
B17: 三、对单位的资助 | C17: 500000 | D17: =SUM(D21:D25)+D18 -> 300000 | E17: =SUM(E21:E25)+E18 -> 800000 | F17: =SUM(F21:F25)+F18 -> 0 | G17: =SUM(G21:G25)+G18 -> 800000
B18: （一）普惠性幼儿园奖励性补助 | C18: 0 | D18: =SUM(D19:D20) -> 0 | E18: =SUM(E19:E20) -> 0 | F18: =C18+D18-E18 -> 0
B19: 1、提高教职工待遇 | C19: 0 | F19: =C19+D19-E19 -> 0
B20: 2、提升保教质量 | C20: 0 | F20: =C20+D20-E20 -> 0
B21: （二）规范管理、安全办学奖励 | C21: 0 | F21: =C21+D21-E21 -> 0
B22: （三）督导评估和示范幼儿园奖励 | C22: 500000 | D22: 300000 | E22: 800000 | F22: =C22+D22-E22 -> 0 | G22: 800000
B23: （四）先进单位奖励 | C23: 0 | F23: =C23+D23-E23 -> 0
B24: （五）教科研课题奖励 | C24: 0 | F24: =C24+D24-E24 -> 0
B25: （六）其他资助 | C25: 0 | F25: =C25+D25-E25 -> 0
B26: 合 计 | C26: 509250 | D26: =D6+D13+D17 -> 886250 | E26: =E6+E13+E17 -> 1394940 | F26: =F6+F13+F17 -> 560 | G26: =G6+G13+G17 -> 800000

Sheet 现金流量表
A1: 现金流量表
A2: =业务活动表!A2 -> 2016年度
A3: =业务活动表!A3 -> 编制单位： 深圳市泰宁幼儿园 | D3: 金额单位：人民币元
A4: 项 目 | C4: 行次 | D4: 本期金额
A5: 一、服务活动产生的现金流量： | C5: 1
B6: 接受捐赠收到的现金 | C6: 2 | D6: =业务活动表!C7 -> 0
B7: 提供服务收到的现金 | C7: 3 | D7: =业务活动表!C8 -> 5362335
B8: 销售商品收到的现金 | C8: 4
B9: 政府补助收到的现金 | C9: 5 | D9: =补助收支!D26 -> 886250
B10: 收到的其他与业务活动有关的现金 | C10: 6 | D10: 1430105.8
A11: 现金流入小计 | C11: 7 | D11: =SUM(D6:D10) -> 7678690.8
B12: 提供捐赠或者资助支付的现金 | C12: 8 | D12: =补助收支!E26 -> 1394940
B13: 支付给员工以及为员工支付的现金 | C13: 9 | D13: =保教活动成本表!I6+费用明细表!D6+费用明细表!D11+费用明细表!D39 -> 3387667.5
B14: 购买商品、接受服务支付的现金 | C14: 10 | D14: =保教活动成本表!I25-现金流量表!D13-费用明细表!D20-费用明细表!D33 -> 2569222.1
B15: 支付的其他与业务活动有关的现金 | C15: 11
A16: 现金流出小计 | C16: 12 | D16: =SUM(D12:D15) -> 7351829.6
A17: 业务活动产生的现金流量净额 | C17: 13 | D17: =D11-D16 -> 326861.2
A18: 二、投资活动产生的现金流量： | C18: 14
B19: 收回投资所收到的现金 | C19: 15
B20: 取得投资收益所收到的现金 | C20: 16 | D20: =业务活动表!C16 -> 1990.54
B21: 处置固定资产和无形资产所收回的现金 | C21: 17
B22: 收到的其他与投资活动有关的现金 | C22: 18
A23: 现金流入小计 | C23: 19 | D23: =SUM(D19:D22) -> 1990.54
B24: 购建固定资产和无形资产所支付的现金 | C24: 20 | D24: =附注!J109 -> 491037
B25: 对外投资所支付的现金 | C25: 21
B26: 支付的其他与投资活动有关的现金 | C26: 22
A27: 现金流出小计 | C27: 23 | D27: =SUM(D24:D26) -> 491037
A28: 投资活动产生的现金流量净额 | C28: 24 | D28: =D23-D27 -> -489046.46
A29: 三、筹资活动产生的现金流量： | C29: 25
B30: 借款所收到的现金 | C30: 26
B31: 收到的其他与筹资活动有关的现金 | C31: 27
A32: 现金流入小计 | C32: 28 | D32: =SUM(D30:D31) -> 0
B33: 偿还借款所支付的现金 | C33: 29
B34: 偿还利息所支付的现金 | C34: 30
B35: 支付的其他与筹资活动有关的现金 | C35: 31
A36: 现金流出小计 | C36: 32 | D36: =SUM(D33:D35) -> 0
A37: 筹资活动产生的现金流量净额 | C37: 33 | D37: =D32 -> 0
A38: 四、汇率变动对现金的影响额 | C38: 34
A39: 五、现金及现金等价物净增加额 | C39: 35 | D39: =D17+D28+D37+D38 -> -162185.26

Sheet 基本数字表
B1: 基 本 数 字 表
B2: =现金流量表!A2 -> 2016年度
B3: =现金流量表!A3 -> 编制单位： 深圳市泰宁幼儿园
B4: 项 目 | C4: 计算单位 | D4: 年初 | F4: 年末 | H4: 全年平均
D5: 班数 | E5: 人数 | F5: 班数 | G5: 人数 | H5: 班数 | I5: 人数
B6: 一、在园儿童 | D6: 12 | E6: 342 | F6: =SUM(F7:F10) -> 12 | G6: =SUM(G7:G10) -> 311 | H6: =(D6+F6)/2 -> 12 | I6: =(E6+G6)/2 -> 326.5
B7: 大班 | D7: 4 | E7: 127 | F7: 4 | G7: 115 | H7: =(D7+F7)/2 -> 4 | I7: =(E7+G7)/2 -> 121
B8: 中班 | D8: 4 | E8: 117 | F8: 4 | G8: 106 | H8: =(D8+F8)/2 -> 4 | I8: =(E8+G8)/2 -> 111.5
B9: 小班 | D9: 4 | E9: 98 | F9: 4 | G9: 90 | H9: =(D9+F9)/2 -> 4 | I9: =(E9+G9)/2 -> 94
B10: 小小班 | I10: =(E10+G10)/2 -> 0
B11: 二、住宿、就餐、接送生 | D11: 0 | E11: 361 | F11: =SUM(F12:F13) -> 0 | G11: =SUM(G12:G13) -> 323 | H11: =(D11+F11)/2 -> 0 | I11: =(E11+G11)/2 -> 342
B12: 就餐生 | E12: 342 | G12: 311 | H12: =(D12+F12)/2 -> 0 | I12: =(E12+G12)/2 -> 326.5
B13: 接送生 | E13: 19 | G13: 12 | H13: =(D13+F13)/2 -> 0 | I13: =(E13+G13)/2 -> 15.5
B14: 项 目 | C14: 计算单位 | D14: 年初 | F14: 年末 | H14: 全年平均
D15: 合计 | E15: 其中编内 | F15: 合计 | G15: 其中编内 | H15: 合计 | I15: 其中编内
B16: 三、教职工 | D16: 64 | E16: 64 | F16: =SUM(F17:F23) -> 64 | G16: =SUM(G17:G23) -> 64 | H16: =(D16+F16)/2 -> 64 | I16: =(E16+G16)/2 -> 64
B17: 管理人员 | C17: 人 | D17: 3 | E17: 3 | F17: 3 | G17: =F17 -> 3 | H17: =(D17+F17)/2 -> 3 | I17: =(E17+G17)/2 -> 3
B18: 专任教师 | C18: 人 | D18: 39 | E18: 39 | F18: 39 | G18: =F18 -> 39 | H18: =(D18+F18)/2 -> 39 | I18: =(E18+G18)/2 -> 39
B19: 保育员 | C19: 人 | D19: 7 | E19: 7 | F19: 7 | G19: =F19 -> 7 | H19: =(D19+F19)/2 -> 7 | I19: =(E19+G19)/2 -> 7
B20: 保健人员 | C20: 人 | D20: 2 | E20: 2 | F20: 2 | G20: =F20 -> 2 | H20: =(D20+F20)/2 -> 2 | I20: =(E20+G20)/2 -> 2
B21: 膳食服务人员 | C21: 人 | D21: 3 | E21: 3 | F21: 3 | G21: =F21 -> 3 | H21: =(D21+F21)/2 -> 3 | I21: =(E21+G21)/2 -> 3
B22: 校车服务人员 | C22: 人 | D22: 1 | E22: 1 | F22: 1 | G22: =F22 -> 1 | H22: =(D22+F22)/2 -> 1 | I22: =(E22+G22)/2 -> 1
B23: 其他工勤人员 | C23: 人 | D23: 9 | E23: 9 | F23: 9 | G23: =F23 -> 9 | H23: =(D23+F23)/2 -> 9 | I23: =(E23+G23)/2 -> 9
B24: 项 目 | C24: 计算单位 | D24: 年初 | F24: 年末 | H24: 全年平均
D25: 合计 | E25: 生均 | F25: 合计 | G25: 生均 | H25: 合计 | I25: 生均
B26: 四、园舍
B27: 占地面积 | C27: 平方米 | D27: 3113 | E27: 9.1023392 | F27: =D27 -> 3113 | G27: =F27/$G$6 -> 10.009646 | H27: =(D27+F27)/2 -> 3113 | I27: =(E27+G27)/2 -> 9.5559927
B28: 建筑面积（自有） | C28: 平方米 | E28: 0 | G28: =F28/$G$6 -> 0 | I28: =H28/$I$6 -> 0
B29: 建筑面积（租有） | C29: 平方米 | D29: 2411 | E29: 7.0497076 | F29: =D29 -> 2411 | G29: =F29/$G$6 -> 7.7524116 | H29: =(D29+F29)/2 -> 2411 | I29: =(E29+G29)/2 -> 7.4010596
B30: 室外活动场所（自有） | C30: 平方米 | E30: 0 | G30: =F30/$G$6 -> 0 | I30: =H30/$I$6 -> 0
B31: 室外活动场所（租有） | C31: 平方米 | D31: 1400 | E31: 4.0935673 | F31: 1400 | G31: =F31/$G$6 -> 4.5016077 | H31: =(D31+F31)/2 -> 1400 | I31: =(E31+G31)/2 -> 4.2975875
B32: 项 目 | C32: 计算单位 | D32: 年初 | F32: 年末 | H32: 全年平均
D33: 数量 | E33: 金额 | F33: 数量 | G33: 金额 | H33: 数量 | I33: 金额
B34: 五、固定资产 | D34: 3020 | E34: 2033607 | F34: =SUM(F35:F40) -> 3308 | G34: =SUM(G35:G40) -> 2524644 | H34: =SUM(H35:H40) -> 3164 | I34: =(E34+G34)/2 -> 2279125.5
B35: 土地、房屋及构筑物 | C35: 平方米等 | E35: 3300 | G35: 3300 | I35: =(E35+G35)/2 -> 3300
B36: 通用设备 | C36: 台/件等 | D36: 19 | E36: 1869467 | F36: 82 | G36: 2026746 | H36: =(D36+F36)/2 -> 50.5 | I36: =(E36+G36)/2 -> 1948106.5
B37: 专用设备 | C37: 台/件等 | E37: 38500 | F37: 15 | G37: 161838 | H37: =(D37+F37)/2 -> 7.5 | I37: =(E37+G37)/2 -> 100169
B38: 文物和陈列品 | C38: 台/件等 | H38: =(D38+F38)/2 -> 0 | I38: =(E38+G38)/2 -> 0
B39: 图书、档案 | C39: 台/件/册 | D39: 2900 | F39: 3106 | H39: =(D39+F39)/2 -> 3003 | I39: =(E39+G39)/2 -> 0
B40: 家具、用具、装具及动植物 | C40: 件/个等 | D40: 101 | E40: 122340 | F40: 105 | G40: 332760 | H40: =(D40+F40)/2 -> 103 | I40: =(E40+G40)/2 -> 227550

Sheet 账务指标表
B1: 财 务 指 标 表
B2: =基本数字表!B2 -> 2016年度
B3: =基本数字表!B3 -> 编制单位： 深圳市泰宁幼儿园
B4: 行次 | C4: 项 目 | D4: 计算单位 | E4: 本年数据 | F4: 相关科目的本年累计发生额 | G4: 全年平均人数
B5: 1 | C5: 生均保教费收入 | D5: 元/人.年 | E5: =F5/G5 -> 13232.833 | F5: =业务活动表!C9 -> 4320520 | G5: =基本数字表!I6 -> 326.5
B6: 2 | C6: 生均伙食费收入 | D6: 元/人.年 | E6: =F6/G6 -> 3007.1822 | F6: =业务活动表!C10 -> 981845 | G6: =基本数字表!I12 -> 326.5
B7: 3 | C7: 生均校车费收入 | D7: 元/人.年 | E7: =F7/G7 -> 2875.4839 | F7: =业务活动表!C11 -> 44570 | G7: =基本数字表!I13 -> 15.5
B8: 4 | C8: 生均其他费收入 | D8: 元/人.年 | E8: =F8/G8 -> 47.166922 | F8: =业务活动表!C13 -> 15400 | G8: =基本数字表!I6 -> 326.5
B9: 5 | C9: 生均保教成本----直接成本 | D9: 元/人.年 | E9: =F9/G9 -> 12152.234 | F9: =保教活动成本表!D23 -> 3967704.6 | G9: =基本数字表!I6 -> 326.5
B10: 6 | C10: 生均膳食成本----直接成本 | D10: 元/人.年 | E10: =F10/G10 -> 2635.5026 | F10: =保教活动成本表!F23 -> 860491.61 | G10: =基本数字表!I12 -> 326.5
B11: 7 | C11: 生均校车成本----直接成本 | D11: 元/人.年 | E11: =F11/G11 -> 10736.81 | F11: =保教活动成本表!H23 -> 166420.55 | G11: =基本数字表!I13 -> 15.5
B12: 8 | C12: 生均保教成本----总成本（含分摊三项费用） | D12: 元/人.年 | E12: =F12/G12 -> 15209.87 | F12: =保教活动成本表!D25 -> 4966022.7 | G12: =基本数字表!I6 -> 326.5
B13: 9 | C13: 生均膳食成本----总成本（含分摊三项费用） | D13: 元/人.年 | E13: =F13/G13 -> 2799.5029 | F13: =保教活动成本表!F25 -> 914037.71 | G13: =基本数字表!I12 -> 326.5
B14: 10 | C14: 生均校车成本----总成本（含分摊三项费用） | D14: 元/人.年 | E14: =F14/G14 -> 12016.993 | F14: =保教活动成本表!H25 -> 186263.38 | G14: =基本数字表!I13 -> 15.5
B15: 11 | C15: 生均管理费用、筹资费用、其他费用 | D15: 元/人.年 | E15: =F15/G15 -> 3282.4107 | F15: =费用明细表!D43 -> 1071707.1 | G15: =基本数字表!I6 -> 326.5
B16: 12 | C16: 资产负债率% | D16: % | E16: ='资产负债表（续）'!C33/资产负债表!C44 -> 0.41359734 | F16: × | G16: ×
B17: 13 | C17: 非限定性净资产增长率% | D17: % | E17: -0.2221 | F17: × | G17: ×
B18: 14 | C18: 保教人员人均年工资性支出 | D18: 元/人.年 | E18: =F18/G18 -> 56046.15 | F18: =保教活动成本表!D6 -> 2578122.9 | G18: =基本数字表!D18+基本数字表!D19 -> 46
B19: 15 | C19: 其中：最高 | D19: 元/人.年 | F19: 8182
B20: 16 | C20: 最低 | D20: 元/人.年 | F20: 2400
B21: 17 | C21: 人均支出比上年增长 | D21: % | F21: 0.13
B22: 18 | C22: 全体教职工人均年工资性支出 | D22: 元/人.年 | E22: =F22/G22 -> 52932.304 | F22: =保教活动成本表!I6+费用明细表!D6+费用明细表!D11+费用明细表!D39 -> 3387667.5 | G22: =基本数字表!H16 -> 64
B23: 19 | C23: 其中：最高 | D23: 元/人.年 | F23: 8182
B24: 20 | C24: 最低 | D24: 元/人.年 | F24: 2400
B25: 21 | C25: 人均支出比上年增长 | D25: % | F25: 0.1
B26: 22 | C26: 保教成本中保教人员工资性支出的比例 | D26: % | E26: =保教活动成本表!D6/保教活动成本表!D23 -> 0.64977694 | F26: × | G26: ×
B27: 23 | C27: 膳食成本中服务人员工资性支出的比例 | D27: % | E27: =保教活动成本表!F6/保教活动成本表!F23 -> 0.1607 | F27: × | G27: ×
B28: 24 | C28: 校车成本中服务人员工资性支出的比例 | D28: % | E28: =保教活动成本表!H6/保教活动成本表!H23 -> 0.3079154 | F28: × | G28: ×
B29: 25 | C29: 教职工工资性支出占成本费用的比例 | D29: % | E29: =F22/保教活动成本表!I25 -> 0.55843829 | F29: × | G29: ×
B30: 26 | C30: 教职工工资性支出占保教收入的比例 | D30: % | E30: =F22/业务活动表!C9 -> 0.78408791 | F30: × | G30: ×
B31: 27 | C31: 分摊的三项费用占保教成本的比例 | D31: % | E31: =保教活动成本表!D24/保教活动成本表!D23 -> 0.25161101 | F31: × | G31: ×
B32: 28 | C32: 分摊的三项费用占膳食服务成本的比例 | D32: % | E32: =保教活动成本表!F24/保教活动成本表!F23 -> 0.062227337 | F32: × | G32: ×
B33: 29 | C33: 分摊的三项费用占校车服务成本的比例 | D33: % | E33: =保教活动成本表!H24/保教活动成本表!H23 -> 0.11923308 | F33: × | G33: ×

Sheet 附注
A2: 深圳市泰宁幼儿园
A3: 会计报表附注
A4: 截至2016年12月31日止
A5: 金额单位:人民币 元
A6: 一、幼儿园基本情况
A7: 深圳市泰宁幼儿园系经深圳市教育局批准，于2013年7月31日领取了教民[144030360000521]号《中华人民共和国民办学校办学许可证》，于2011年11月24日领取了深圳市罗湖区民政局颁发的粤深罗民政字第010041号《民办非企业单位登记证书》。统一社会信用代码：52440303G347939303规定事项和基本情况如下：
A8: 办学地址：深圳市罗湖区爱国路3033号泰宁花园
A9: 办学类型：幼儿园
A10: 办学内容：全日制幼儿园
A11: 主管部门：深圳市罗湖区教育局
A12: 举办者：深圳市文华房地产有限公司 法定代表人：杨桂森
A13: 园 长： 莫小媚 财务负责人：蓝淑明
... A64: 注释1： 银行存款及现金
D65: 项 目 | L65: 期末余额
D66: 库存现金 | L66: =资产负债表!C7 -> 1045.81
D67: 银行存款 | L67: =资产负债表!C9 -> 1247701.4
D68: 合 计 | L68: =SUM(L66:N67) -> 1248747.2
B70: 注：其中：基本账户余额786,947.71元，共管账户余额84,510.28元，其他账户376,243.44元。
A72: 注释2：其他应收款
B73: 账 龄 | I73: 期末余额 | N73: 占总额比例
B74: 三年以上 | I74: =资产负债表!C18 -> 754174.54 | N74: =I74/I75 -> 1
B75: 合 计 | I75: =SUM(I74:K74) -> 754174.54 | N75: =SUM(N74:P74) -> 1
B77: 其他应收款明细：
B78: 项目（或应收款单位） | J78: 年末欠款余额 | M78: 欠款原因 | P78: 账 龄
B79: 泰宁管理处 | J79: 250000 | M79: 合作管理押金 | P79: 4年以上
B80: 文华房地产有限公司 | J80: 377000 | M80: 合作管理押金 | P80: 4年以上
B81: 丽晶幼教中心 | J81: 23674.54 | M81: 往来款 | P81: 4年以上
B82: 复印机押金 | J82: 3500 | M82: 押金 | P82: 3年以上
B83: 丽晶幼儿园 | J83: 100000 | M83: 往来款 | P83: 3年以上
A86: 注释3：待摊费用（一年以内）
B87: 项 目 | F87: 期初余额 | J87: 本期增加 | M87: 本期摊销 | P87: 期末余额
B88: 维修费用 | F88: 40265.1 | J88: 0 | M88: 23007.6 | P88: =F88+J88-M88 -> 17257.5
B89: 合 计 | F89: =SUM(F88:H88) -> 40265.1 | J89: =SUM(J88:K88) -> 0 | M89: =SUM(M88:N88) -> 23007.6 | P89: =SUM(P88:Q88) -> 17257.5
A92: 注释3：待摊费用（一年以上）
B93: 项 目 | D93: 原始金额 | H93: 期初余额 | K93: 本期增加 | N93: 本期摊销 | Q93: 期末余额
B94: 装修款 | D94: 225186 | H94: 100086 | K94: 0 | N94: 60048 | Q94: =H94+K94-N94 -> 40038
B95: 合 计 | D95: =D94 -> 225186 | H95: =H94 -> 100086 | K95: =K94 -> 0 | N95: =N94 -> 60048 | Q95: =Q94 -> 40038
A98: 注释4：固定资产及折旧
B99: (1)原值 | F99: 期初余额 | J99: 本期增加 | M99: 本期减少 | P99: 期末余额
B100: 1、土地、房屋及构筑物 | M100: 0 | P100: =F100+J100-M100 -> 0
...
